BEGIN:VCALENDAR
VERSION:2.0
PRODID:-//SRAJ - ECPv6.14.2//NONSGML v1.0//EN
CALSCALE:GREGORIAN
METHOD:PUBLISH
X-ORIGINAL-URL:https://sraj.ro
X-WR-CALDESC:Evenimente pentru SRAJ
REFRESH-INTERVAL;VALUE=DURATION:PT1H
X-Robots-Tag:noindex
X-PUBLISHED-TTL:PT1H
BEGIN:VTIMEZONE
TZID:Europe/Helsinki
BEGIN:DAYLIGHT
TZOFFSETFROM:+0200
TZOFFSETTO:+0300
TZNAME:EEST
DTSTART:20250330T010000
END:DAYLIGHT
BEGIN:STANDARD
TZOFFSETFROM:+0300
TZOFFSETTO:+0200
TZNAME:EET
DTSTART:20251026T010000
END:STANDARD
END:VTIMEZONE
BEGIN:VEVENT
DTSTART;VALUE=DATE:20250714
DTEND;VALUE=DATE:20250715
DTSTAMP:20260417T095917
CREATED:20250927T092748Z
LAST-MODIFIED:20260128T111655Z
UID:6682-1752451200-1752537599@sraj.ro
SUMMARY:Conferință Prof. Stefano Carta - Afecte și arhetipuri în știința contemporană
DESCRIPTION:
URL:https://sraj.ro/program/conferinta-prof-stefano-carta-afecte-si-arhetipuri-in-stiinta-contemporana/
CATEGORIES:Formare continuă,Trecute
ATTACH;FMTTYPE=image/jpeg:https://sraj.ro/wp-content/uploads/2025/09/stefano-carta-1.jpg
END:VEVENT
END:VCALENDAR