BEGIN:VCALENDAR
VERSION:2.0
PRODID:-//SRAJ - ECPv6.14.2//NONSGML v1.0//EN
CALSCALE:GREGORIAN
METHOD:PUBLISH
X-ORIGINAL-URL:https://sraj.ro
X-WR-CALDESC:Evenimente pentru SRAJ
REFRESH-INTERVAL;VALUE=DURATION:PT1H
X-Robots-Tag:noindex
X-PUBLISHED-TTL:PT1H
BEGIN:VTIMEZONE
TZID:UTC
BEGIN:STANDARD
TZOFFSETFROM:+0000
TZOFFSETTO:+0000
TZNAME:UTC
DTSTART:20220101T000000
END:STANDARD
END:VTIMEZONE
BEGIN:VEVENT
DTSTART;VALUE=DATE:20220205
DTEND;VALUE=DATE:20220207
DTSTAMP:20260424T132215
CREATED:20250926T083850Z
LAST-MODIFIED:20250926T083850Z
UID:6531-1644019200-1644191999@sraj.ro
SUMMARY:Conferință Dr. Mark Winborn - Arta și tehnica interpretării în psihoterapie. Dialog transformativ
DESCRIPTION:
URL:https://sraj.ro/program/conferinta-dr-mark-winborn-arta-si-tehnica-interpretarii-in-psihoterapie-dialog-transformativ/
CATEGORIES:Formare continuă,Trecute
ATTACH;FMTTYPE=image/png:https://sraj.ro/wp-content/uploads/2025/09/Mark-Winborn.png
END:VEVENT
END:VCALENDAR