BEGIN:VCALENDAR
VERSION:2.0
PRODID:-//SRAJ - ECPv6.14.2//NONSGML v1.0//EN
CALSCALE:GREGORIAN
METHOD:PUBLISH
X-ORIGINAL-URL:https://sraj.ro
X-WR-CALDESC:Evenimente pentru SRAJ
REFRESH-INTERVAL;VALUE=DURATION:PT1H
X-Robots-Tag:noindex
X-PUBLISHED-TTL:PT1H
BEGIN:VTIMEZONE
TZID:UTC
BEGIN:STANDARD
TZOFFSETFROM:+0000
TZOFFSETTO:+0000
TZNAME:UTC
DTSTART:20210101T000000
END:STANDARD
END:VTIMEZONE
BEGIN:VEVENT
DTSTART;VALUE=DATE:20210624
DTEND;VALUE=DATE:20210625
DTSTAMP:20260425T002128
CREATED:20250926T082746Z
LAST-MODIFIED:20250926T082933Z
UID:6519-1624492800-1624579199@sraj.ro
SUMMARY:Conferință Dr. Donald Kalsched - Trauma și capacitatea de a simți\, Prelegere despre aspecte clinice la pacienții care au suferit traume timpurii
DESCRIPTION:
URL:https://sraj.ro/program/conferinta-dr-donald-kalsched-trauma-si-capacitatea-de-a-simti-prelegere-despre-aspecte-clinice-la-pacientii-care-au-suferit-traume-timpur/
CATEGORIES:Formare continuă,Trecute
ATTACH;FMTTYPE=image/jpeg:https://sraj.ro/wp-content/uploads/2025/09/Donald-Kalsched.jpg
END:VEVENT
END:VCALENDAR