BEGIN:VCALENDAR
VERSION:2.0
PRODID:-//SRAJ - ECPv6.14.2//NONSGML v1.0//EN
CALSCALE:GREGORIAN
METHOD:PUBLISH
X-WR-CALNAME:SRAJ
X-ORIGINAL-URL:https://sraj.ro
X-WR-CALDESC:Evenimente pentru SRAJ
REFRESH-INTERVAL;VALUE=DURATION:PT1H
X-Robots-Tag:noindex
X-PUBLISHED-TTL:PT1H
BEGIN:VTIMEZONE
TZID:Europe/Helsinki
BEGIN:DAYLIGHT
TZOFFSETFROM:+0200
TZOFFSETTO:+0300
TZNAME:EEST
DTSTART:20250330T010000
END:DAYLIGHT
BEGIN:STANDARD
TZOFFSETFROM:+0300
TZOFFSETTO:+0200
TZNAME:EET
DTSTART:20251026T010000
END:STANDARD
END:VTIMEZONE
BEGIN:VEVENT
DTSTART;VALUE=DATE:20250308
DTEND;VALUE=DATE:20250309
DTSTAMP:20260417T184440
CREATED:20250927T092442Z
LAST-MODIFIED:20250927T092442Z
UID:6676-1741392000-1741478399@sraj.ro
SUMMARY:Conferință Dr. Mark Solms\, Ph.D. - Creierul visător
DESCRIPTION:
URL:https://sraj.ro/program/conferinta-dr-mark-solms-ph-d-creierul-visator/
CATEGORIES:Formare continuă,Trecute
ATTACH;FMTTYPE=image/jpeg:https://sraj.ro/wp-content/uploads/2025/09/MarkSolms.jpg
END:VEVENT
END:VCALENDAR