BEGIN:VCALENDAR
VERSION:2.0
PRODID:-//SRAJ - ECPv6.14.2//NONSGML v1.0//EN
CALSCALE:GREGORIAN
METHOD:PUBLISH
X-WR-CALNAME:SRAJ
X-ORIGINAL-URL:https://sraj.ro
X-WR-CALDESC:Evenimente pentru SRAJ
REFRESH-INTERVAL;VALUE=DURATION:PT1H
X-Robots-Tag:noindex
X-PUBLISHED-TTL:PT1H
BEGIN:VTIMEZONE
TZID:Europe/Helsinki
BEGIN:DAYLIGHT
TZOFFSETFROM:+0200
TZOFFSETTO:+0300
TZNAME:EEST
DTSTART:20240331T010000
END:DAYLIGHT
BEGIN:STANDARD
TZOFFSETFROM:+0300
TZOFFSETTO:+0200
TZNAME:EET
DTSTART:20241027T010000
END:STANDARD
END:VTIMEZONE
BEGIN:VEVENT
DTSTART;VALUE=DATE:20240518
DTEND;VALUE=DATE:20240519
DTSTAMP:20260422T222351
CREATED:20250927T091235Z
LAST-MODIFIED:20250927T091235Z
UID:6662-1715990400-1716076799@sraj.ro
SUMMARY:Conferință John Hill\, M.A. - Sunete și simetrii ale apartenenței
DESCRIPTION:
URL:https://sraj.ro/program/conferinta-john-hill-m-a-sunete-si-simetrii-ale-apartenentei/
CATEGORIES:Formare continuă,Trecute
ATTACH;FMTTYPE=image/png:https://sraj.ro/wp-content/uploads/2025/09/John-Hill.png
END:VEVENT
END:VCALENDAR