BEGIN:VCALENDAR
VERSION:2.0
PRODID:-//SRAJ - ECPv6.14.2//NONSGML v1.0//EN
CALSCALE:GREGORIAN
METHOD:PUBLISH
X-ORIGINAL-URL:https://sraj.ro
X-WR-CALDESC:Evenimente pentru SRAJ
REFRESH-INTERVAL;VALUE=DURATION:PT1H
X-Robots-Tag:noindex
X-PUBLISHED-TTL:PT1H
BEGIN:VTIMEZONE
TZID:Europe/Helsinki
BEGIN:DAYLIGHT
TZOFFSETFROM:+0200
TZOFFSETTO:+0300
TZNAME:EEST
DTSTART:20230326T010000
END:DAYLIGHT
BEGIN:STANDARD
TZOFFSETFROM:+0300
TZOFFSETTO:+0200
TZNAME:EET
DTSTART:20231029T010000
END:STANDARD
END:VTIMEZONE
BEGIN:VEVENT
DTSTART;VALUE=DATE:20230520
DTEND;VALUE=DATE:20230521
DTSTAMP:20260423T145203
CREATED:20250927T085012Z
LAST-MODIFIED:20250927T085012Z
UID:6641-1684540800-1684627199@sraj.ro
SUMMARY:Conferință Dr. John Beebe - Sinele și Umbra în lumina tipologiei jungiene
DESCRIPTION:
URL:https://sraj.ro/program/conferinta-dr-john-beebe-sinele-si-umbra-in-lumina-tipologiei-jungiene/
CATEGORIES:Formare continuă,Trecute
ATTACH;FMTTYPE=image/jpeg:https://sraj.ro/wp-content/uploads/2025/09/Dr.-John-Beebe.jpeg
END:VEVENT
END:VCALENDAR