BEGIN:VCALENDAR
VERSION:2.0
PRODID:-//SRAJ - ECPv6.14.2//NONSGML v1.0//EN
CALSCALE:GREGORIAN
METHOD:PUBLISH
X-ORIGINAL-URL:https://sraj.ro
X-WR-CALDESC:Evenimente pentru SRAJ
REFRESH-INTERVAL;VALUE=DURATION:PT1H
X-Robots-Tag:noindex
X-PUBLISHED-TTL:PT1H
BEGIN:VTIMEZONE
TZID:Europe/Helsinki
BEGIN:DAYLIGHT
TZOFFSETFROM:+0200
TZOFFSETTO:+0300
TZNAME:EEST
DTSTART:20220327T010000
END:DAYLIGHT
BEGIN:STANDARD
TZOFFSETFROM:+0300
TZOFFSETTO:+0200
TZNAME:EET
DTSTART:20221030T010000
END:STANDARD
END:VTIMEZONE
BEGIN:VEVENT
DTSTART;VALUE=DATE:20221015
DTEND;VALUE=DATE:20221017
DTSTAMP:20260423T204000
CREATED:20250927T083931Z
LAST-MODIFIED:20250927T083931Z
UID:6626-1665792000-1665964799@sraj.ro
SUMMARY:Conferință Dr. Mark Winborn - Înțelegerea mecanismelor de apărare în analiză
DESCRIPTION:
URL:https://sraj.ro/program/conferinta-dr-mark-winborn-intelegerea-mecanismelor-de-aparare-in-analiza/
CATEGORIES:Formare continuă,Trecute
ATTACH;FMTTYPE=image/webp:https://sraj.ro/wp-content/uploads/2025/09/Mark-Winborn-2.webp
END:VEVENT
END:VCALENDAR