BEGIN:VCALENDAR
VERSION:2.0
PRODID:-//SRAJ - ECPv6.14.2//NONSGML v1.0//EN
CALSCALE:GREGORIAN
METHOD:PUBLISH
X-WR-CALNAME:SRAJ
X-ORIGINAL-URL:https://sraj.ro
X-WR-CALDESC:Evenimente pentru SRAJ
REFRESH-INTERVAL;VALUE=DURATION:PT1H
X-Robots-Tag:noindex
X-PUBLISHED-TTL:PT1H
BEGIN:VTIMEZONE
TZID:Europe/Helsinki
BEGIN:DAYLIGHT
TZOFFSETFROM:+0200
TZOFFSETTO:+0300
TZNAME:EEST
DTSTART:20220327T010000
END:DAYLIGHT
BEGIN:STANDARD
TZOFFSETFROM:+0300
TZOFFSETTO:+0200
TZNAME:EET
DTSTART:20221030T010000
END:STANDARD
END:VTIMEZONE
BEGIN:VEVENT
DTSTART;VALUE=DATE:20220709
DTEND;VALUE=DATE:20220710
DTSTAMP:20260424T044833
CREATED:20250927T083032Z
LAST-MODIFIED:20250927T083405Z
UID:6623-1657324800-1657411199@sraj.ro
SUMMARY:Conferință Dr. Avi Baumann - Depresia ca experiență a pierderii și parte a transformării psihologice 
DESCRIPTION:
URL:https://sraj.ro/program/conferinta-dr-avi-baumann-depresia-ca-experienta-a-pierderii-si-parte-a-transformarii-psihologice/
CATEGORIES:Formare continuă,Trecute
ATTACH;FMTTYPE=image/jpeg:https://sraj.ro/wp-content/uploads/2025/09/Avi-Baumann.jpeg
END:VEVENT
BEGIN:VEVENT
DTSTART;VALUE=DATE:20220714
DTEND;VALUE=DATE:20220715
DTSTAMP:20260424T044833
CREATED:20250927T082739Z
LAST-MODIFIED:20250927T083448Z
UID:6620-1657756800-1657843199@sraj.ro
SUMMARY:Conferință Franz Ruppert - Aspecte problematice ale corpului
DESCRIPTION:
URL:https://sraj.ro/program/conferinta-franz-ruppert-aspecte-problematice-ale-corpului/
CATEGORIES:Formare continuă,Trecute
ATTACH;FMTTYPE=image/webp:https://sraj.ro/wp-content/uploads/2025/09/Franz-Ruppert.webp
END:VEVENT
END:VCALENDAR